BEGIN:VCALENDAR
VERSION:2.0
PRODID:-//https://www.veitshoechheim-kirchen.de///NONSGML kigkonsult.se iCalcreator 2.10.15//
METHOD:PUBLISH
BEGIN:VEVENT
UID:20260424T145135CEST-9974Rczwo0@https://www.veitshoechheim-kirchen.de/
DTSTAMP:20260424T125135Z
DESCRIPTION: https://www.veitshoechheim-kirchen.de/component/rseventspro/ev
 ent/80-erstkommunion-2021-gemeinschaftstreffen-2?Itemid=101
DTSTART:20201028T143000Z
DTEND:20201028T154500Z
LOCATION:Pfarrsaal Kuratie  ()
SUMMARY:Erstkommunion 2021: Gemeinschaftstreffen 2
URL:https://www.veitshoechheim-kirchen.de/component/rseventspro/event/80-er
 stkommunion-2021-gemeinschaftstreffen-2?Itemid=101
END:VEVENT
BEGIN:VEVENT
UID:20260424T145135CEST-997791Dt0O@https://www.veitshoechheim-kirchen.de/
DTSTAMP:20260424T125135Z
DESCRIPTION: https://www.veitshoechheim-kirchen.de/component/rseventspro/ev
 ent/81-erstkommunion-2021-gemeinschaftstreffen-2?Itemid=101
DTSTART:20201028T160000Z
DTEND:20201028T173000Z
LOCATION:Pfarrsaal Kuratie  ()
SUMMARY:Erstkommunion 2021: Gemeinschaftstreffen 2
URL:https://www.veitshoechheim-kirchen.de/component/rseventspro/event/81-er
 stkommunion-2021-gemeinschaftstreffen-2?Itemid=101
END:VEVENT
BEGIN:VEVENT
UID:20260424T145135CEST-997972FB57@https://www.veitshoechheim-kirchen.de/
DTSTAMP:20260424T125135Z
DESCRIPTION: https://www.veitshoechheim-kirchen.de/component/rseventspro/ev
 ent/82-erstkommunion-2021-gemeinschaftstreffen-2?Itemid=101
DTSTART:20201029T153000Z
DTEND:20201029T170000Z
LOCATION:Pfarrsaal Kuratie  ()
SUMMARY:Erstkommunion 2021: Gemeinschaftstreffen 2
URL:https://www.veitshoechheim-kirchen.de/component/rseventspro/event/82-er
 stkommunion-2021-gemeinschaftstreffen-2?Itemid=101
END:VEVENT
END:VCALENDAR
