BEGIN:VCALENDAR
VERSION:2.0
PRODID:-//https://www.veitshoechheim-kirchen.de///NONSGML kigkonsult.se iCalcreator 2.10.15//
METHOD:PUBLISH
BEGIN:VEVENT
UID:20260422T164856CEST-3909LZrvvP@https://www.veitshoechheim-kirchen.de/
DTSTAMP:20260422T144856Z
DESCRIPTION: https://www.veitshoechheim-kirchen.de/component/rseventspro/ev
 ent/87-sonderkollekte-glockenrenovierung?Itemid=101
DTSTART;VALUE=DATE:20201122
LOCATION:Kuratiekirche Hlst. Dreifaltigkeit (Heidenfelderstraße\, 97209 Vei
 tshöchheim)
SUMMARY:Sonderkollekte Glockenrenovierung
URL:https://www.veitshoechheim-kirchen.de/component/rseventspro/event/87-so
 nderkollekte-glockenrenovierung?Itemid=101
END:VEVENT
END:VCALENDAR
