BEGIN:VCALENDAR
VERSION:2.0
PRODID:-//https://www.veitshoechheim-kirchen.de///NONSGML kigkonsult.se iCalcreator 2.10.15//
METHOD:PUBLISH
BEGIN:VEVENT
UID:20260422T154104CEST-3853c5wAKo@https://www.veitshoechheim-kirchen.de/
DTSTAMP:20260422T134104Z
DESCRIPTION: https://www.veitshoechheim-kirchen.de/component/rseventspro/ev
 ent/86-sonderkollekte-glockenrenovierung?Itemid=101
DTSTART;VALUE=DATE:20201121
LOCATION:Kuratiekirche Hlst. Dreifaltigkeit (Heidenfelderstraße\, 97209 Vei
 tshöchheim)
SUMMARY:Sonderkollekte Glockenrenovierung
URL:https://www.veitshoechheim-kirchen.de/component/rseventspro/event/86-so
 nderkollekte-glockenrenovierung?Itemid=101
END:VEVENT
END:VCALENDAR
