BEGIN:VCALENDAR
VERSION:2.0
PRODID:-//https://www.veitshoechheim-kirchen.de///NONSGML kigkonsult.se iCalcreator 2.10.15//
METHOD:PUBLISH
BEGIN:VEVENT
UID:20260423T181137CEST-3683DGkUUc@https://www.veitshoechheim-kirchen.de/
DTSTAMP:20260423T161137Z
DESCRIPTION:Spielenachmittagmit Edeltraud Hutzelmann (Frauenbund)Wir bitten
  um Ihre Anmeldung: Tel.: 0931 9701809 https://www.veitshoechheim-kirchen.
 de/component/rseventspro/event/97-spielenachmittag?Itemid=101
DTSTART:20211007T120000Z
DTEND:20211007T140000Z
LOCATION:Sozialstation St. Stephanus (Bahnhofstraße 11A\, 97209\, Veitshöch
 heim\, Bayern)
SUMMARY:Spielenachmittag
URL:https://www.veitshoechheim-kirchen.de/component/rseventspro/event/97-sp
 ielenachmittag?Itemid=101
END:VEVENT
END:VCALENDAR
