BEGIN:VCALENDAR
VERSION:2.0
PRODID:-//https://www.veitshoechheim-kirchen.de///NONSGML kigkonsult.se iCalcreator 2.10.15//
METHOD:PUBLISH
BEGIN:VEVENT
UID:20260423T143157CEST-1254TAngaF@https://www.veitshoechheim-kirchen.de/
DTSTAMP:20260423T123157Z
DESCRIPTION:Spielenachmittag mit Elisabeth Selinger- KuratieWir bitten um I
 hre Anmeldung Tel.: 0931 93410 https://www.veitshoechheim-kirchen.de/compo
 nent/rseventspro/event/99-spielenachmittag?Itemid=101
DTSTART:20211005T120000Z
DTEND:20211005T150000Z
LOCATION:Kleines Pfarrheim Kuratie (Sudetenstraße 1a\, 97209 Veitshöchheim\
 , Deutschland)
SUMMARY:Spielenachmittag
URL:https://www.veitshoechheim-kirchen.de/component/rseventspro/event/99-sp
 ielenachmittag?Itemid=101
END:VEVENT
END:VCALENDAR
