BEGIN:VCALENDAR
VERSION:2.0
PRODID:-//https://www.veitshoechheim-kirchen.de///NONSGML kigkonsult.se iCalcreator 2.10.15//
METHOD:PUBLISH
BEGIN:VEVENT
UID:20260423T160102CEST-57197ueH8M@https://www.veitshoechheim-kirchen.de/
DTSTAMP:20260423T140102Z
DESCRIPTION: https://www.veitshoechheim-kirchen.de/component/rseventspro/ev
 ent/120-ökumenische-kinderbibelwoche?Itemid=101
DTSTART:20220905T220000Z
DTEND:20220909T104100Z
LOCATION:Evang. Christuskirche (Speckertsweg/Günterslebener Straße)
SUMMARY:Ökumenische Kinderbibelwoche
URL:https://www.veitshoechheim-kirchen.de/component/rseventspro/event/120-ö
 kumenische-kinderbibelwoche?Itemid=101
END:VEVENT
END:VCALENDAR
