BEGIN:VCALENDAR
VERSION:2.0
PRODID:-//https://www.veitshoechheim-kirchen.de///NONSGML kigkonsult.se iCalcreator 2.10.15//
METHOD:PUBLISH
BEGIN:VEVENT
UID:20260425T154417CEST-2426GaViVz@https://www.veitshoechheim-kirchen.de/
DTSTAMP:20260425T134417Z
DESCRIPTION: https://www.veitshoechheim-kirchen.de/aktuelles/termine/event/
 292-plauderstündchen-für-senioren
DTSTART:20260427T120000Z
DTEND:20260427T140000Z
LOCATION:Kleines Pfarrheim Kuratie (Sudetenstraße 1a\, 97209 Veitshöchheim\
 , Deutschland)
SUMMARY:Plauderstündchen für Senioren
URL:https://www.veitshoechheim-kirchen.de/aktuelles/termine/event/292-plaud
 erstündchen-für-senioren
END:VEVENT
BEGIN:VEVENT
UID:20260425T154417CEST-2428BMJWNm@https://www.veitshoechheim-kirchen.de/
DTSTAMP:20260425T134417Z
DESCRIPTION: https://www.veitshoechheim-kirchen.de/aktuelles/termine/event/
 312-café-zeit
DTSTART:20260503T093000Z
DTEND:20260503T103000Z
LOCATION:Kleines Pfarrheim Kuratie (Sudetenstraße 1a\, 97209 Veitshöchheim\
 , Deutschland)
SUMMARY:Café-Zeit
URL:https://www.veitshoechheim-kirchen.de/aktuelles/termine/event/312-café-
 zeit
END:VEVENT
END:VCALENDAR
