BEGIN:VCALENDAR
VERSION:2.0
PRODID:-//https://www.veitshoechheim-kirchen.de///NONSGML kigkonsult.se iCalcreator 2.10.15//
METHOD:PUBLISH
BEGIN:VEVENT
UID:20260423T023544CEST-28657zgHZR@https://www.veitshoechheim-kirchen.de/
DTSTAMP:20260423T003544Z
DESCRIPTION: https://www.veitshoechheim-kirchen.de/aktuelles/termine/event/
 73-erstkommunion-gemeinschaftstreffen
DTSTART:20200918T140000Z
DTEND:20200918T153000Z
LOCATION:'Pfarrsaal' Kuratie  (Heidenfelderstraße\, 97209 Veitshöchheim\, D
 eutschland)
SUMMARY:Erstkommunion: Gemeinschaftstreffen
URL:https://www.veitshoechheim-kirchen.de/aktuelles/termine/event/73-erstko
 mmunion-gemeinschaftstreffen
END:VEVENT
END:VCALENDAR
