BEGIN:VCALENDAR
VERSION:2.0
PRODID:-//https://www.veitshoechheim-kirchen.de///NONSGML kigkonsult.se iCalcreator 2.10.15//
METHOD:PUBLISH
BEGIN:VEVENT
UID:20260424T115829CEST-5985n3SRTW@https://www.veitshoechheim-kirchen.de/
DTSTAMP:20260424T095829Z
DESCRIPTION: https://www.veitshoechheim-kirchen.de/aktuelles/termine/event/
 297-plauderstündchen-für-senioren
DTSTART:20261026T130000Z
DTEND:20261026T150000Z
LOCATION:Kleines Pfarrheim Kuratie (Sudetenstraße 1a\, 97209 Veitshöchheim\
 , Deutschland)
SUMMARY:Plauderstündchen für Senioren
URL:https://www.veitshoechheim-kirchen.de/aktuelles/termine/event/297-plaud
 erstündchen-für-senioren
END:VEVENT
END:VCALENDAR
