BEGIN:VCALENDAR
VERSION:2.0
PRODID:-//https://www.veitshoechheim-kirchen.de///NONSGML kigkonsult.se iCalcreator 2.10.15//
METHOD:PUBLISH
BEGIN:VEVENT
UID:20260425T154654CEST-4855aW3juC@https://www.veitshoechheim-kirchen.de/
DTSTAMP:20260425T134654Z
DESCRIPTION:'Schein uns\, du liebe Sonne' - Antonio ScandelloNeue und lusti
 ge weltliche deutsche Liedlein (1570)Eintritt frei!\nVictoria Sommerer\, S
 opranStefan Schneider\, Tenor\nLeitung Julian Habryka https://www.veitshoe
 chheim-kirchen.de/aktuelles/termine/event/311-schütz-kammerchor-konzert
DTSTART:20260426T150000Z
DTEND:20260426T163000Z
LOCATION:St. Vitus-Kirche (Kirchplatz\, Veitshöchheim)
SUMMARY:Schütz Kammerchor: Konzert
URL:https://www.veitshoechheim-kirchen.de/aktuelles/termine/event/311-schüt
 z-kammerchor-konzert
END:VEVENT
END:VCALENDAR
